BEGIN:VCALENDAR
PRODID: 1
VERSION:2.0
METHOD:PUBLISH
X-WR-TIMEZONE: America/Los_Angeles
DTSTAMP: 20260421T042754
BEGIN:VEVENT
UID: info@vconferenceonline.com
SUMMARY:Wrap up and tribute to those who have suffered or experienced loss during the pandemic
PRIORITY:0
CATEGORIES:SESSION
CLASS:PUBLIC
DTSTART:20210211T170000
DTEND:20210211T170700
URL: https://event.vconferenceonline.com
DESCRIPTION:<p style="box-sizing: border-box; margin: 0px 0px 20px; padding: 0px; list-style: none; font-family: open_sansregular; color: rgb(77, 77, 77); font-size: 13px; line-height: 18px; background-color: rgb(255, 255, 255); text-align: justify !important;">
	Following a word from PayPal executives, Brian Grim summarizes the main arguments for workplace religious inclusion and ends with a moving tribute to all who have suffered or experienced loss during the pandemic.</p>

LOCATION:
END:VEVENT
END:VCALENDAR
