BEGIN:VCALENDAR
PRODID: 1
VERSION:2.0
METHOD:PUBLISH
X-WR-TIMEZONE: America/Los_Angeles
DTSTAMP: 20260421T042445
BEGIN:VEVENT
UID: info@vconferenceonline.com
SUMMARY:Tools and resources for advancing workplace religious inclusion
PRIORITY:0
CATEGORIES:SESSION
CLASS:PUBLIC
DTSTART:20210210T141500
DTEND:20210210T143000
URL: https://event.vconferenceonline.com
DESCRIPTION:<p style="box-sizing: border-box; margin: 0px 0px 20px; padding: 0px; list-style: none; font-family: open_sansregular; color: rgb(77, 77, 77); font-size: 13px; line-height: 18px; background-color: rgb(255, 255, 255); text-align: justify !important;">
	Paul Lambert is the Religious Freedom & Business Foundation&#39;s director of corporate training. Together with RFBF&#39;s senior corporate advisor Kent Johnson, Paul provides examples the demonstrating the various tools and strategies companies benefit from in successfully creating a religiously inclusive environment. He also discusses both companies with long experience can benefit from new resources as well as tools for companies just beginning their religious inclusion efforts.&nbsp;</p>

LOCATION:
END:VEVENT
END:VCALENDAR
