BEGIN:VCALENDAR
PRODID: 1
VERSION:2.0
METHOD:PUBLISH
X-WR-TIMEZONE: America/Los_Angeles
DTSTAMP: 20260421T042656
BEGIN:VEVENT
UID: info@vconferenceonline.com
SUMMARY:Corporate lawyers respond to EEOC General Counsel
PRIORITY:0
CATEGORIES:SESSION
CLASS:PUBLIC
DTSTART:20210210T134500
DTEND:20210210T141500
URL: https://event.vconferenceonline.com
DESCRIPTION:<p style="box-sizing: border-box; margin: 0px 0px 20px; padding: 0px; list-style: none; font-family: open_sansregular; color: rgb(77, 77, 77); font-size: 13px; line-height: 18px; background-color: rgb(255, 255, 255); text-align: justify !important;">
	Corporate lawyers react to and discuss the keynote by Sharon Fast Gustafson, General Counsel of the Equal Opportunity Employment Commission (EEOC).<br />
	<br />
	After Kent Jounson and Julia Oltmanns react, others, including Richard Foltin will weigh in.</p>

LOCATION:
END:VEVENT
END:VCALENDAR
