BEGIN:VCALENDAR
PRODID: 1
VERSION:2.0
METHOD:PUBLISH
X-WR-TIMEZONE: America/Los_Angeles
DTSTAMP: 20260421T042522
BEGIN:VEVENT
UID: info@vconferenceonline.com
SUMMARY:The value of recognizing Faith@Work (Texas Instruments)
PRIORITY:0
CATEGORIES:SESSION
CLASS:PUBLIC
DTSTART:20210210T122400
DTEND:20210210T123100
URL: https://event.vconferenceonline.com
DESCRIPTION:<p style="box-sizing: border-box; margin: 0px 0px 20px; padding: 0px; list-style: none; font-family: open_sansregular; color: rgb(77, 77, 77); font-size: 13px; line-height: 18px; background-color: rgb(255, 255, 255); text-align: justify !important;">
	Representatives of the three faith-based employee resource groups at Texas Instruments discuss the value of recognizing faith@work.&nbsp;</p>

LOCATION:
END:VEVENT
END:VCALENDAR
