BEGIN:VCALENDAR
PRODID: 1
VERSION:2.0
METHOD:PUBLISH
X-WR-TIMEZONE: America/Los_Angeles
DTSTAMP: 20260421T042632
BEGIN:VEVENT
UID: info@vconferenceonline.com
SUMMARY:World Premier of the Short Film "IBN at Google"
PRIORITY:0
CATEGORIES:SESSION
CLASS:PUBLIC
DTSTART:20210209T175600
DTEND:20210209T180000
URL: https://event.vconferenceonline.com
DESCRIPTION:<p style="box-sizing: border-box; margin: 0px 0px 20px; padding: 0px; list-style: none; font-family: open_sansregular; color: rgb(77, 77, 77); font-size: 13px; line-height: 18px; background-color: rgb(255, 255, 255); text-align: justify !important;">
	Join us for the world premier of the short documentary on Google&#39;s Inter Belief Network (IBN) introduced during Tomas Flier&#39;s opening Faith@Work keynote. The short film features IBN Googlers, including Naomi Kraus and Barbara Phillips who speak at the first panel of Faith@Work Day 2.</p>

LOCATION:
END:VEVENT
END:VCALENDAR
