BEGIN:VCALENDAR
PRODID: 1
VERSION:2.0
METHOD:PUBLISH
X-WR-TIMEZONE: America/Los_Angeles
DTSTAMP: 20260421T042505
BEGIN:VEVENT
UID: info@vconferenceonline.com
SUMMARY:Religious Inclusion: It's more than just ERGs (Accenture)
PRIORITY:0
CATEGORIES:SESSION
CLASS:PUBLIC
DTSTART:20210210T123100
DTEND:20210210T131500
URL: https://event.vconferenceonline.com
DESCRIPTION:<p style="box-sizing: border-box; margin: 0px 0px 20px; padding: 0px; list-style: none; font-family: open_sansregular; color: rgb(77, 77, 77); font-size: 13px; line-height: 18px; background-color: rgb(255, 255, 255); text-align: justify !important;">
	Religious inclusion is not something you can just tick the box to accomplish by having faith and/or interfaith employee resource groups. This panel from Accenture, with testimonials from rank and file as well as HR, shows that it takes an accommodation approach that works across all departments, from recruiting to onboarding to employee engagement.</p>

LOCATION:
END:VEVENT
END:VCALENDAR
