BEGIN:VCALENDAR
PRODID: 1
VERSION:2.0
METHOD:PUBLISH
X-WR-TIMEZONE: America/Los_Angeles
DTSTAMP: 20260421T042445
BEGIN:VEVENT
UID: info@vconferenceonline.com
SUMMARY:Empower Women Short Film Festival
PRIORITY:0
CATEGORIES:SESSION
CLASS:PUBLIC
DTSTART:20210209T180000
DTEND:20210209T184500
URL: https://event.vconferenceonline.com
DESCRIPTION:<p style="box-sizing: border-box; margin: 0px 0px 20px; padding: 0px; list-style: none; font-family: open_sansregular; color: rgb(77, 77, 77); font-size: 13px; line-height: 18px; background-color: rgb(255, 255, 255); text-align: justify !important;">
	We pleased to present the Empower Women Short Film Festival. Join us to see the award-winnning short films by women from around the world celebrating Article 18 of the Universal Declaration of Human Rights: &ldquo;Everyone has the right to freedom of thought, conscience and religion; this right includes freedom to change his religion or belief, and freedom, either alone or in community with others and in public or private, to manifest his religion or belief in teaching, practice, worship and observance.&rdquo;</p>

LOCATION:
END:VEVENT
END:VCALENDAR
