BEGIN:VCALENDAR
PRODID: 1
VERSION:2.0
METHOD:PUBLISH
X-WR-TIMEZONE: America/Los_Angeles
DTSTAMP: 20260421T042707
BEGIN:VEVENT
UID: info@vconferenceonline.com
SUMMARY:What faith-based business schools can do to support religious inclusion in the workplace
PRIORITY:0
CATEGORIES:SESSION
CLASS:PUBLIC
DTSTART:20210211T133000
DTEND:20210211T140000
URL: https://event.vconferenceonline.com
DESCRIPTION:<p style="box-sizing: border-box; margin: 0px 0px 20px; padding: 0px; list-style: none; font-family: open_sansregular; color: rgb(77, 77, 77); font-size: 13px; line-height: 18px; background-color: rgb(255, 255, 255); text-align: justify !important;">
	Dean Brigette Madrian of the BYU Marriott School of Business begins with a short presentation, and then is joined by Dean Andrew Abela of the Busch School of Business at The Catholic University of America to discuss how faith-based business schools can support the growing movement in Fortune 500 companies toward encouraging employees to &quot;bring their whole selves to work&quot; - faith and all.</p>

LOCATION:
END:VEVENT
END:VCALENDAR
