BEGIN:VCALENDAR
PRODID: 1
VERSION:2.0
METHOD:PUBLISH
X-WR-TIMEZONE: America/Los_Angeles
DTSTAMP: 20260421T042645
BEGIN:VEVENT
UID: info@vconferenceonline.com
SUMMARY:REDI Awards and Reactions from Fortune 500 Companies
PRIORITY:0
CATEGORIES:SESSION
CLASS:PUBLIC
DTSTART:20210209T151000
DTEND:20210209T153500
URL: https://event.vconferenceonline.com
DESCRIPTION:<p style="box-sizing: border-box; margin: 0px 0px 20px; padding: 0px; list-style: none; font-family: open_sansregular; color: rgb(77, 77, 77); font-size: 13px; line-height: 18px; background-color: rgb(255, 255, 255); text-align: justify !important;">
	Corporate leaders from Intel, Texas Instruments, American Express, American Airlines, SAP and Google share about the importance of religious inclusion in their workplaces. The results of the 2021 Corporate Religious Equity, Diversity & Inclusion (REDI) Index will be unveiled during this session.&nbsp;</p>

LOCATION:
END:VEVENT
END:VCALENDAR
