BEGIN:VCALENDAR
PRODID: 1
VERSION:2.0
METHOD:PUBLISH
X-WR-TIMEZONE: America/Los_Angeles
DTSTAMP: 20260421T042505
BEGIN:VEVENT
UID: info@vconferenceonline.com
SUMMARY:Pre-event: Dare to Overcome Anthem
PRIORITY:0
CATEGORIES:SESSION
CLASS:PUBLIC
DTSTART:20210209T145400
DTEND:20210209T145800
URL: https://event.vconferenceonline.com
DESCRIPTION:<p style="box-sizing: border-box; margin: 0px 0px 20px; padding: 0px; list-style: none; font-family: open_sansregular; color: rgb(77, 77, 77); font-size: 13px; line-height: 18px; background-color: rgb(255, 255, 255); text-align: justify !important;">
	Tune in early for the conference anthem, Dare to Overcome. The anthem was written by Kyoji Ohno, and he collaborated on the lyrics with Brian Grim. <a href="https://dto.world/">Dare to Overcome</a> is our&nbsp;Global Business & Peace Festival in support of the Paralympic Movement and people with disabilities, held at the start of the Parpalmpic Games in Tokyo, August 22-24, 2021. The official airline of Dare to Overcome is the world&#39;s largest - American Airlines.<br />
	<br />
	American Airlines, one of Faith@Work&rsquo;s Gold sponsors, is also collaborating with the Religious Freedom & Business Foundation to connect the world during the Paralympics. And in line with American Airlines&rsquo; purpose of caring for people on life&rsquo;s journey, American will offer two roundtrip business class tickets to&nbsp;<a href="https://dto.world/" style="font-size: 13px; color: rgb(156, 29, 0);">Dare to Overcome</a>&nbsp;in Tokyo for an employee with disabilities from a company participating in this conference. Visit American&#39;s booth during the conference an tell us why you&#39;re nominating your teammate. The nominee with the most compelling reason will be chosen.</p>
<div>
	&nbsp;</div>
<div style="float: left; position: relative; overflow: hidden; color: rgb(46, 46, 46); font-family: Arial, Verdana, sans-serif; font-size: 13px;">
	&nbsp;</div>

LOCATION:
END:VEVENT
END:VCALENDAR
