BEGIN:VCALENDAR
PRODID: 1
VERSION:2.0
METHOD:PUBLISH
X-WR-TIMEZONE: America/Los_Angeles
DTSTAMP: 20260421T042331
BEGIN:VEVENT
UID: info@vconferenceonline.com
SUMMARY:Welcome, Roadmap and a Smile
PRIORITY:0
CATEGORIES:SESSION
CLASS:PUBLIC
DTSTART:20210209T150000
DTEND:20210209T151000
URL: https://event.vconferenceonline.com
DESCRIPTION:<p style="box-sizing: border-box; margin: 0px 0px 20px; padding: 0px; list-style: none; font-family: open_sansregular; color: rgb(77, 77, 77); font-size: 13px; line-height: 18px; background-color: rgb(255, 255, 255); text-align: justify !important;">
	The 2021 Faith@Work conference opens virtually from Washington DC, with greetings from John Garvey. Brian Grim provides a roadmap for the three days, including revealing a Paralympic opportunity with American Airlines and an invitation to take part in a diversity survey in the exhibition hall. Grim also shares a bit of his personal background with a bit of lyrical humor as he reveals a free gift that all attending the conference will recieve.</p>

LOCATION:
END:VEVENT
END:VCALENDAR
