BEGIN:VCALENDAR
PRODID: 1
VERSION:2.0
METHOD:PUBLISH
X-WR-TIMEZONE: America/Los_Angeles
DTSTAMP: 20260421T042754
BEGIN:VEVENT
UID: info@vconferenceonline.com
SUMMARY:Why set up an ERG? Because my colleagues' beliefs matter to me (SAP, PayPal, Dell)
PRIORITY:0
CATEGORIES:SESSION
CLASS:PUBLIC
DTSTART:20210210T184500
DTEND:20210210T193000
URL: https://event.vconferenceonline.com
DESCRIPTION:<p style="box-sizing: border-box; margin: 0px 0px 20px; padding: 0px; list-style: none; font-family: open_sansregular; color: rgb(77, 77, 77); font-size: 13px; line-height: 18px; background-color: rgb(255, 255, 255); text-align: justify !important;">
	Members of PayPal&#39;s and Dell&#39;s ESTABLISHED interfaith ERGs discuss with the leaders of the NEWLY FORMED interfaith ERG at SAP the whys and hows of setting up faith-oriented employee resource groups (ERGs). This panel is a wonderful peek into how this movement spreads not only within a company but also from one company to another as well as spreading the spirit of authenticity into the communities they serve.</p>

LOCATION:
END:VEVENT
END:VCALENDAR
