BEGIN:VCALENDAR
PRODID: 1
VERSION:2.0
METHOD:PUBLISH
X-WR-TIMEZONE: America/Los_Angeles
DTSTAMP: 20260421T042707
BEGIN:VEVENT
UID: info@vconferenceonline.com
SUMMARY:Googles' Inter Belief Network (IBN) with follow-up discussion by American Express ERG leaders
PRIORITY:0
CATEGORIES:SESSION
CLASS:PUBLIC
DTSTART:20210210T100000
DTEND:20210210T110000
URL: https://event.vconferenceonline.com
DESCRIPTION:<p style="box-sizing: border-box; margin: 0px 0px 20px; padding: 0px; list-style: none; font-family: open_sansregular; color: rgb(77, 77, 77); font-size: 13px; line-height: 18px; background-color: rgb(255, 255, 255); text-align: justify !important;">
	Learn the backstory of Google&#39;s Inter Belief Network (IBN), which aims to create a culture of inclusion, tolerance, and mutual understanding at Google for a diversity of beliefs, where Googlers of all beliefs feel welcome, included, and supported. IBN also aims to ensure that the voices of belief-based communities are represented in Google&rsquo;s products. IBN consists of multiple member chapters representing specific communities of interest, including but not limited to: Buddhists, Christians, Jewglers, Muslims.<br />
	<br />
	Leaders of ERGs from American Express with respond and discuss similarities and differences with their ERG work.</p>

LOCATION:
END:VEVENT
END:VCALENDAR
