BEGIN:VCALENDAR
PRODID: 1
VERSION:2.0
METHOD:PUBLISH
X-WR-TIMEZONE: America/Los_Angeles
DTSTAMP: 20260421T042356
BEGIN:VEVENT
UID: info@vconferenceonline.com
SUMMARY:Workshop: Faith and Ethics in Practice
PRIORITY:0
CATEGORIES:SESSION
CLASS:PUBLIC
DTSTART:20210211T123000
DTEND:20210211T133000
URL: https://event.vconferenceonline.com
DESCRIPTION:<p style="box-sizing: border-box; margin: 0px 0px 20px; padding: 0px; list-style: none; font-family: open_sansregular; color: rgb(77, 77, 77); font-size: 13px; line-height: 18px; background-color: rgb(255, 255, 255); text-align: justify !important;">
	Faith-oriented workers not only seek to &ldquo;bring their best self to work&rdquo; but to &ldquo;bring their best work to their job&rdquo; and marketplace in ways that integrate their personal faith and values and work life. This workshop explores in the context of several real-life work situations what resources are needed and helpful in translating faith values into ethical propositions, which then can be brought into conversation with an employer&rsquo;s ethical policies or value statements.<br />
	<br />
	Discussion follows. led by Michael Quinn.</p>

LOCATION:
END:VEVENT
END:VCALENDAR
