BEGIN:VCALENDAR
PRODID: 1
VERSION:2.0
METHOD:PUBLISH
X-WR-TIMEZONE: America/Los_Angeles
DTSTAMP: 20260421T042356
BEGIN:VEVENT
UID: info@vconferenceonline.com
SUMMARY:Greetings from Gold Sponsor, Global Leadership Network
PRIORITY:0
CATEGORIES:SESSION
CLASS:PUBLIC
DTSTART:20210209T162000
DTEND:20210209T162200
URL: https://event.vconferenceonline.com
DESCRIPTION:<p style="box-sizing: border-box; margin: 0px 0px 20px; padding: 0px; list-style: none; font-family: open_sansregular; color: rgb(77, 77, 77); font-size: 13px; line-height: 18px; background-color: rgb(255, 255, 255); text-align: justify !important;">
	Tom De Vries will share a brief introduction of tomorrow&#39;s keynote speaker, Juliet Funt!</p>

LOCATION:
END:VEVENT
END:VCALENDAR
