BEGIN:VCALENDAR
PRODID: 1
VERSION:2.0
METHOD:PUBLISH
X-WR-TIMEZONE: America/Los_Angeles
DTSTAMP: 20260421T042557
BEGIN:VEVENT
UID: info@vconferenceonline.com
SUMMARY:Faith, Ethics and Technology for ERGs
PRIORITY:0
CATEGORIES:SESSION
CLASS:PUBLIC
DTSTART:20210211T103000
DTEND:20210211T123000
URL: https://event.vconferenceonline.com
DESCRIPTION:<p style="box-sizing: border-box; margin: 0px 0px 20px; padding: 0px; list-style: none; font-family: open_sansregular; color: rgb(77, 77, 77); font-size: 13px; line-height: 18px; background-color: rgb(255, 255, 255); text-align: justify !important;">
	With artificial intelligence software everywhere in American corporations and raising important ethics questions central to the world&rsquo;s major faiths, constructively engaging corporations in the debate on how to use AI well can be a win-win for ERGS and their employers.&nbsp; In three panels and a live Q&A session, three panels of faith leaders and corporate insiders discuss why and how achieving AI for good is a great place for faith ERGs to practice their faith values.&rdquo;&nbsp;<br />
	<br />
	Discussion - Moderated by David Brenner</p>

LOCATION:
END:VEVENT
END:VCALENDAR
