BEGIN:VCALENDAR
PRODID: 1
VERSION:2.0
METHOD:PUBLISH
X-WR-TIMEZONE: America/Los_Angeles
DTSTAMP: 20260421T042418
BEGIN:VEVENT
UID: info@vconferenceonline.com
SUMMARY:Building employee resilience: Mental health and workplace chaplaincy
PRIORITY:0
CATEGORIES:SESSION
CLASS:PUBLIC
DTSTART:20210211T154500
DTEND:20210211T161500
URL: https://event.vconferenceonline.com
DESCRIPTION:<p style="box-sizing: border-box; margin: 0px 0px 20px; padding: 0px; list-style: none; font-family: open_sansregular; color: rgb(77, 77, 77); font-size: 13px; line-height: 18px; background-color: rgb(255, 255, 255); text-align: justify !important;">
	Learn how workplace chaplains are helping to address the epidemic of mental health issues exacerbated by the covid-19 pandemic.</p>

LOCATION:
END:VEVENT
END:VCALENDAR
