BEGIN:VCALENDAR
PRODID: 1
VERSION:2.0
METHOD:PUBLISH
X-WR-TIMEZONE: America/Los_Angeles
DTSTAMP: 20260421T042851
BEGIN:VEVENT
UID: info@vconferenceonline.com
SUMMARY:Faith and productivity
PRIORITY:0
CATEGORIES:SESSION
CLASS:PUBLIC
DTSTART:20210211T150000
DTEND:20210211T154500
URL: https://event.vconferenceonline.com
DESCRIPTION:<p style="box-sizing: border-box; margin: 0px 0px 20px; padding: 0px; list-style: none; font-family: open_sansregular; color: rgb(77, 77, 77); font-size: 13px; line-height: 18px; background-color: rgb(255, 255, 255); text-align: justify !important;">
	What mindsets, values and/or rituals does your faith tradition bring that can enhance productivity in the workplace? And should workplace chaplaincy only be viewed as a vehicle for greater productivity and profits for a company?</p>

LOCATION:
END:VEVENT
END:VCALENDAR
