BEGIN:VCALENDAR
PRODID: 1
VERSION:2.0
METHOD:PUBLISH
X-WR-TIMEZONE: America/Los_Angeles
DTSTAMP: 20260421T042813
BEGIN:VEVENT
UID: info@vconferenceonline.com
SUMMARY:Interfaith invocation
PRIORITY:0
CATEGORIES:SESSION
CLASS:PUBLIC
DTSTART:20210209T145800
DTEND:20210209T150000
URL: https://event.vconferenceonline.com
DESCRIPTION:<p style="box-sizing: border-box; margin: 0px 0px 20px; padding: 0px; list-style: none; font-family: open_sansregular; color: rgb(77, 77, 77); font-size: 13px; line-height: 18px; background-color: rgb(255, 255, 255); text-align: justify !important;">
	Ambassador &#39;Sujay&#39; Suzan Johnson Cook opens our conference with an interfaith invocation for the people who will gather virtually in these days as well as for our loved ones, our companies and our country.<br />
	<br />
	We realize that not everyone prays. For those who don&#39;t, we invite you to dedicate your hearts and minds to our mission of building a more inclusive society where people of all faiths and beliefs are free to be their authentic selves in their workplaces.</p>

LOCATION:
END:VEVENT
END:VCALENDAR
