BEGIN:VCALENDAR
PRODID: 1
VERSION:2.0
METHOD:PUBLISH
X-WR-TIMEZONE: America/Los_Angeles
DTSTAMP: 20260421T042813
BEGIN:VEVENT
UID: info@vconferenceonline.com
SUMMARY:Foxhole relationships
PRIORITY:0
CATEGORIES:SESSION
CLASS:PUBLIC
DTSTART:20210211T161500
DTEND:20210211T165500
URL: https://event.vconferenceonline.com
DESCRIPTION:<p style="box-sizing: border-box; margin: 0px 0px 20px; padding: 0px; list-style: none; font-family: open_sansregular; color: rgb(77, 77, 77); font-size: 13px; line-height: 18px; background-color: rgb(255, 255, 255); text-align: justify !important;">
	As the US continues to recover from a pandemic and violence in the Capitol itself, there are thousands of workplace chaplains ministering to people amidst the troubles. Join us to hear from three frontline chaplaincy leaders on how workplaces are strategic launchpads for civility?</p>

LOCATION:
END:VEVENT
END:VCALENDAR
