BEGIN:VCALENDAR
PRODID: 1
VERSION:2.0
METHOD:PUBLISH
X-WR-TIMEZONE: America/Los_Angeles
DTSTAMP: 20260421T042418
BEGIN:VEVENT
UID: info@vconferenceonline.com
SUMMARY:Religious inclusivity at Google: Building a culture of belonging for all
PRIORITY:0
CATEGORIES:SESSION
CLASS:PUBLIC
DTSTART:20210209T153500
DTEND:20210209T162000
URL: https://event.vconferenceonline.com
DESCRIPTION:<p style="box-sizing: border-box; margin: 0px 0px 20px; padding: 0px; list-style: none; font-family: open_sansregular; color: rgb(77, 77, 77); font-size: 13px; line-height: 18px; background-color: rgb(255, 255, 255); text-align: justify !important;">
	Mr. Flier will share how religious inclusion benefits not only Google&rsquo;s global workforce but also all of us who rely on the many innovative products and services provided by Google every day.<br />
	<br />
	Following Mr. Flier&#39;s presentation, join us for a Zoom webinar with live reactions from people in companies across the world incliding Intel, Texas Instruments, American Airlines, and others!</p>

LOCATION:
END:VEVENT
END:VCALENDAR
