BEGIN:VCALENDAR
PRODID: 1
VERSION:2.0
METHOD:PUBLISH
X-WR-TIMEZONE: America/Los_Angeles
DTSTAMP: 20260421T042631
BEGIN:VEVENT
UID: info@vconferenceonline.com
SUMMARY:Freedom of expression, faith and belief in universities
PRIORITY:0
CATEGORIES:SESSION
CLASS:PUBLIC
DTSTART:20210211T140000
DTEND:20210211T150000
URL: https://event.vconferenceonline.com
DESCRIPTION:<p style="box-sizing: border-box; margin: 0px 0px 20px; padding: 0px; list-style: none; font-family: open_sansregular; color: rgb(77, 77, 77); font-size: 13px; line-height: 18px; background-color: rgb(255, 255, 255); text-align: justify !important;">
	Sue Warnke (Salesforce) shows how the next generation of employees are looking for workplaces that allow them to bring their &quot;full selves&quot; to work -- including their diverse faiths and beliefs. Companies that don&#39;t &quot;get it&quot; are at risk of missing or losing some of the best up-and-coming talent!</p>

LOCATION:
END:VEVENT
END:VCALENDAR
