BEGIN:VCALENDAR
PRODID: 1
VERSION:2.0
METHOD:PUBLISH
X-WR-TIMEZONE: America/Los_Angeles
DTSTAMP: 20260421T042557
BEGIN:VEVENT
UID: info@vconferenceonline.com
SUMMARY:Religious nondiscrimination is good for business (EEOC GC)
PRIORITY:0
CATEGORIES:SESSION
CLASS:PUBLIC
DTSTART:20210210T131500
DTEND:20210210T134500
URL: https://event.vconferenceonline.com
DESCRIPTION:<p style="box-sizing: border-box; margin: 0px 0px 20px; padding: 0px; list-style: none; font-family: open_sansregular; color: rgb(77, 77, 77); font-size: 13px; line-height: 18px; background-color: rgb(255, 255, 255); text-align: justify !important;">
	This is a unique and important opportunity for companies to hear directly from Sharon Fast Gustafson, General Counsel of the U.S. Equal Employment Opportunity Commission (<a href="https://www.eeoc.gov/" style="box-sizing: border-box; margin: 0px; padding: 0px; list-style: none; background-image: initial; background-position: initial; background-size: initial; background-repeat: initial; background-attachment: initial; background-origin: initial; background-clip: initial; color: rgb(0, 113, 188); font-size: 13px;">EEOC</a>),&nbsp;on how religious nondiscrimination and accommodation is integral to the success of American workplaces.</p>

LOCATION:
END:VEVENT
END:VCALENDAR
