BEGIN:VCALENDAR
PRODID: 1
VERSION:2.0
METHOD:PUBLISH
X-WR-TIMEZONE: America/Los_Angeles
DTSTAMP: 20260421T041530
BEGIN:VEVENT
UID: info@vconferenceonline.com
SUMMARY:Moving beyond low-value busywork to unleash full potential
PRIORITY:0
CATEGORIES:SESSION
CLASS:PUBLIC
DTSTART:20210210T164500
DTEND:20210210T180000
URL: https://event.vconferenceonline.com
DESCRIPTION:<p style="box-sizing: border-box; margin: 0px 0px 20px; padding: 0px; list-style: none; font-family: open_sansregular; color: rgb(77, 77, 77); font-size: 13px; line-height: 18px; background-color: rgb(255, 255, 255); text-align: justify !important;">
	Juliet Funt, daughter of Candid Camera&rsquo;s Allen Funt, is just what the doctor ordered for a time like this. She was born with fun in her blood. She&rsquo;s a high-energy, hilarious motivational keynote speaker who helps audiences crack the code of the Culture of Insatiability&mdash;where nothing we do is ever enough.</p>

LOCATION:
END:VEVENT
END:VCALENDAR
